BEGIN:VCALENDAR
VERSION:2.0
PRODID:-//Tatiana &#039;Tajci&#039; Cameron - ECPv6.15.20//NONSGML v1.0//EN
CALSCALE:GREGORIAN
METHOD:PUBLISH
X-WR-CALNAME:Tatiana &#039;Tajci&#039; Cameron
X-ORIGINAL-URL:https://tatianacameron.com
X-WR-CALDESC:Events for Tatiana &#039;Tajci&#039; Cameron
REFRESH-INTERVAL;VALUE=DURATION:PT1H
X-Robots-Tag:noindex
X-PUBLISHED-TTL:PT1H
BEGIN:VTIMEZONE
TZID:America/Chicago
BEGIN:DAYLIGHT
TZOFFSETFROM:-0600
TZOFFSETTO:-0500
TZNAME:CDT
DTSTART:20210314T080000
END:DAYLIGHT
BEGIN:STANDARD
TZOFFSETFROM:-0500
TZOFFSETTO:-0600
TZNAME:CST
DTSTART:20211107T070000
END:STANDARD
BEGIN:DAYLIGHT
TZOFFSETFROM:-0600
TZOFFSETTO:-0500
TZNAME:CDT
DTSTART:20220313T080000
END:DAYLIGHT
BEGIN:STANDARD
TZOFFSETFROM:-0500
TZOFFSETTO:-0600
TZNAME:CST
DTSTART:20221106T070000
END:STANDARD
BEGIN:DAYLIGHT
TZOFFSETFROM:-0600
TZOFFSETTO:-0500
TZNAME:CDT
DTSTART:20230312T080000
END:DAYLIGHT
BEGIN:STANDARD
TZOFFSETFROM:-0500
TZOFFSETTO:-0600
TZNAME:CST
DTSTART:20231105T070000
END:STANDARD
END:VTIMEZONE
BEGIN:VEVENT
DTSTART;TZID=America/Chicago:20220827T080000
DTEND;TZID=America/Chicago:20220827T170000
DTSTAMP:20260420T181218
CREATED:20220828T003952Z
LAST-MODIFIED:20220828T004007Z
UID:7835-1661587200-1661619600@tatianacameron.com
SUMMARY:Ventura\, CA
DESCRIPTION:
URL:https://tatianacameron.com/event/ventura-ca/
END:VEVENT
END:VCALENDAR