BEGIN:VCALENDAR
VERSION:2.0
PRODID:-//Tatiana &#039;Tajci&#039; Cameron - ECPv6.15.20//NONSGML v1.0//EN
CALSCALE:GREGORIAN
METHOD:PUBLISH
X-ORIGINAL-URL:https://tatianacameron.com
X-WR-CALDESC:Events for Tatiana &#039;Tajci&#039; Cameron
REFRESH-INTERVAL;VALUE=DURATION:PT1H
X-Robots-Tag:noindex
X-PUBLISHED-TTL:PT1H
BEGIN:VTIMEZONE
TZID:America/Chicago
BEGIN:DAYLIGHT
TZOFFSETFROM:-0600
TZOFFSETTO:-0500
TZNAME:CDT
DTSTART:20210314T080000
END:DAYLIGHT
BEGIN:STANDARD
TZOFFSETFROM:-0500
TZOFFSETTO:-0600
TZNAME:CST
DTSTART:20211107T070000
END:STANDARD
BEGIN:DAYLIGHT
TZOFFSETFROM:-0600
TZOFFSETTO:-0500
TZNAME:CDT
DTSTART:20220313T080000
END:DAYLIGHT
BEGIN:STANDARD
TZOFFSETFROM:-0500
TZOFFSETTO:-0600
TZNAME:CST
DTSTART:20221106T070000
END:STANDARD
BEGIN:DAYLIGHT
TZOFFSETFROM:-0600
TZOFFSETTO:-0500
TZNAME:CDT
DTSTART:20230312T080000
END:DAYLIGHT
BEGIN:STANDARD
TZOFFSETFROM:-0500
TZOFFSETTO:-0600
TZNAME:CST
DTSTART:20231105T070000
END:STANDARD
END:VTIMEZONE
BEGIN:VEVENT
DTSTART;TZID=America/Chicago:20220301T190000
DTEND;TZID=America/Chicago:20220301T203000
DTSTAMP:20260421T035716
CREATED:20220216T174155Z
LAST-MODIFIED:20220216T174155Z
UID:7330-1646161200-1646166600@tatianacameron.com
SUMMARY:FREE LIVE WEBINAR
DESCRIPTION:ROUTINES FOR COMING OUT OF THE WINTER SLUMP \nOnline free live webinar with Tajci. More details at this link \n 
URL:https://tatianacameron.com/event/free-live-webinar/
LOCATION:Tajci’s Zoom Room
CATEGORIES:Workshops
END:VEVENT
BEGIN:VEVENT
DTSTART;TZID=America/Chicago:20220304T190000
DTEND;TZID=America/Chicago:20220304T210000
DTSTAMP:20260421T035716
CREATED:20220202T180936Z
LAST-MODIFIED:20220202T180936Z
UID:7286-1646420400-1646427600@tatianacameron.com
SUMMARY:Private event
DESCRIPTION:Invitation only private concert.
URL:https://tatianacameron.com/event/private-event/
END:VEVENT
BEGIN:VEVENT
DTSTART;TZID=America/Chicago:20220305T090000
DTEND;TZID=America/Chicago:20220305T130000
DTSTAMP:20260421T035716
CREATED:20220202T030457Z
LAST-MODIFIED:20220216T171814Z
UID:7260-1646470800-1646485200@tatianacameron.com
SUMMARY:I Thirst WORKSHOP
DESCRIPTION:CONCERT WORKSHOPwith Kim Belew & Tatiana ‘Tajci’ Cameron \nNew Thought Unity Center1401 E McMillan St\, Cincinnati\, OH 45206 \nPLEASE CLICK HERE to RSVP \n“I Thirst” workshop facilitated by Tajci – with guest facilitator Kim Belew – is an opportunity to look at some deeper parts of ourselves that lead to experiencing more freedom\, healing\, and love in our lives. Presented in three sessions\, and set around the Crucifixion Story\, we will focus on healing all four areas of healing – Physical (body)\, Mental (mind)\, Emotional (heart)\, and Spiritual (soul)\, experiencing more love in our lives\, and rediscovering joy and sense of purpose in service.  \n  \nThrough engaging and interactive presentations\, music reflections\, and personal stories we will explore concepts like surrender\, awareness\, being present to discomfort (vs numbing with external distractions)\, forgiveness\, compassion\, and daily spiritual/ faith practices.  \n  \nTajci is a certified life coach through Radiant Coaches Academy\, Chopra Center and ICF\, meditation teacher\, and an award winning music artist. 
URL:https://tatianacameron.com/event/i-thirst-workshop-2/
LOCATION:New Thought Unity Center\, 1401 E McMillan St\, Cincinnati\, OH\, 45206
CATEGORIES:Workshops
END:VEVENT
BEGIN:VEVENT
DTSTART;VALUE=DATE:20220306
DTEND;VALUE=DATE:20220307
DTSTAMP:20260421T035716
CREATED:20220202T181126Z
LAST-MODIFIED:20220216T171416Z
UID:7288-1646524800-1646611199@tatianacameron.com
SUMMARY:Cincinnati - Private Living Room Concert
DESCRIPTION:
URL:https://tatianacameron.com/event/cincinnati-tba/
CATEGORIES:Living Room Concert
END:VEVENT
BEGIN:VEVENT
DTSTART;TZID=America/Chicago:20220306T160000
DTEND;TZID=America/Chicago:20220306T173000
DTSTAMP:20260421T035716
CREATED:20220301T100050Z
LAST-MODIFIED:20220303T170450Z
UID:7354-1646582400-1646587800@tatianacameron.com
SUMMARY:I Thirst - Cincinnati
DESCRIPTION:
URL:https://tatianacameron.com/event/i-thirst-cincinnati/
LOCATION:St. Mary Church\, 3398 State Route 125\, Bethel\, 45106\, United States
END:VEVENT
BEGIN:VEVENT
DTSTART;TZID=America/Chicago:20220311T190000
DTEND;TZID=America/Chicago:20220311T210000
DTSTAMP:20260421T035716
CREATED:20220202T030732Z
LAST-MODIFIED:20220202T032409Z
UID:7265-1647025200-1647032400@tatianacameron.com
SUMMARY:I Thirst Concert
DESCRIPTION:“I Thirst” Concert \nSt. Maria Goretti Catholic Church \n17102 Spring Mill Rd\, Westfield Indiana 46074
URL:https://tatianacameron.com/event/i-thirst-concert/
LOCATION:St. Maria Goretti Catholic Church\, 17102 Spring Mill Rd\, Westfield\, IN\, 46074
END:VEVENT
BEGIN:VEVENT
DTSTART;TZID=America/Chicago:20220312T190000
DTEND;TZID=America/Chicago:20220312T200000
DTSTAMP:20260421T035716
CREATED:20220301T130029Z
LAST-MODIFIED:20220303T170706Z
UID:7357-1647111600-1647115200@tatianacameron.com
SUMMARY:Private Event - St. John\, IN
DESCRIPTION:
URL:https://tatianacameron.com/event/private-event-st-john-in/
CATEGORIES:Living Room Concert
END:VEVENT
BEGIN:VEVENT
DTSTART;TZID=America/Chicago:20220313T160000
DTEND;TZID=America/Chicago:20220313T180000
DTSTAMP:20260421T035716
CREATED:20220202T031044Z
LAST-MODIFIED:20220202T032454Z
UID:7268-1647187200-1647194400@tatianacameron.com
SUMMARY:I Thirst Concert - Lenten Concert Series
DESCRIPTION:“I Thirst” Concert \nSt. John the Baptist \n1849 Lincoln Ave\, Whiting\, IN 46394
URL:https://tatianacameron.com/event/i-thirst-concert-lenten-concert-series/
LOCATION:St. John the Baptist\, 1849 Lincoln Ave\, Whiting\, IN\, 46394
END:VEVENT
END:VCALENDAR