BEGIN:VCALENDAR
VERSION:2.0
PRODID:-//Tatiana &#039;Tajci&#039; Cameron - ECPv6.15.20//NONSGML v1.0//EN
CALSCALE:GREGORIAN
METHOD:PUBLISH
X-WR-CALNAME:Tatiana &#039;Tajci&#039; Cameron
X-ORIGINAL-URL:https://tatianacameron.com
X-WR-CALDESC:Events for Tatiana &#039;Tajci&#039; Cameron
REFRESH-INTERVAL;VALUE=DURATION:PT1H
X-Robots-Tag:noindex
X-PUBLISHED-TTL:PT1H
BEGIN:VTIMEZONE
TZID:America/Chicago
BEGIN:DAYLIGHT
TZOFFSETFROM:-0600
TZOFFSETTO:-0500
TZNAME:CDT
DTSTART:20200308T080000
END:DAYLIGHT
BEGIN:STANDARD
TZOFFSETFROM:-0500
TZOFFSETTO:-0600
TZNAME:CST
DTSTART:20201101T070000
END:STANDARD
BEGIN:DAYLIGHT
TZOFFSETFROM:-0600
TZOFFSETTO:-0500
TZNAME:CDT
DTSTART:20210314T080000
END:DAYLIGHT
BEGIN:STANDARD
TZOFFSETFROM:-0500
TZOFFSETTO:-0600
TZNAME:CST
DTSTART:20211107T070000
END:STANDARD
BEGIN:DAYLIGHT
TZOFFSETFROM:-0600
TZOFFSETTO:-0500
TZNAME:CDT
DTSTART:20220313T080000
END:DAYLIGHT
BEGIN:STANDARD
TZOFFSETFROM:-0500
TZOFFSETTO:-0600
TZNAME:CST
DTSTART:20221106T070000
END:STANDARD
END:VTIMEZONE
BEGIN:VTIMEZONE
TZID:America/Denver
BEGIN:DAYLIGHT
TZOFFSETFROM:-0700
TZOFFSETTO:-0600
TZNAME:MDT
DTSTART:20200308T090000
END:DAYLIGHT
BEGIN:STANDARD
TZOFFSETFROM:-0600
TZOFFSETTO:-0700
TZNAME:MST
DTSTART:20201101T080000
END:STANDARD
BEGIN:DAYLIGHT
TZOFFSETFROM:-0700
TZOFFSETTO:-0600
TZNAME:MDT
DTSTART:20210314T090000
END:DAYLIGHT
BEGIN:STANDARD
TZOFFSETFROM:-0600
TZOFFSETTO:-0700
TZNAME:MST
DTSTART:20211107T080000
END:STANDARD
BEGIN:DAYLIGHT
TZOFFSETFROM:-0700
TZOFFSETTO:-0600
TZNAME:MDT
DTSTART:20220313T090000
END:DAYLIGHT
BEGIN:STANDARD
TZOFFSETFROM:-0600
TZOFFSETTO:-0700
TZNAME:MST
DTSTART:20221106T080000
END:STANDARD
END:VTIMEZONE
BEGIN:VEVENT
DTSTART;VALUE=DATE:20210902
DTEND;VALUE=DATE:20210903
DTSTAMP:20260421T175032
CREATED:20210811T004527Z
LAST-MODIFIED:20210811T004603Z
UID:6033-1630540800-1630627199@tatianacameron.com
SUMMARY:LIVE from Tajci's Music Room
DESCRIPTION:Tajci and David host this live stream event\, with special guest performers. \n  \n			\n				\n				\n				\n				\n				We will have guest performers in the band\, with superior audio equipment\, and multiple cameras\, all to bring you the best living room concert experience. \nThis is the DAVID AND TAJCI SHOW taken to a new level!
URL:https://tatianacameron.com/event/live-from-tajcis-music-room/
LOCATION:Tajci’s Music Room\, Franklin\, TN\, 37069\, United States
END:VEVENT
BEGIN:VEVENT
DTSTART;TZID=America/Denver:20210924T193000
DTEND;TZID=America/Denver:20210924T213000
DTSTAMP:20260421T175032
CREATED:20210816T201103Z
LAST-MODIFIED:20210818T002642Z
UID:6045-1632511800-1632519000@tatianacameron.com
SUMMARY:Waking Up In America - 2021 Tour - Anaconda\, MT
DESCRIPTION:WASHOE Theatre\,Anaconda\, Montana \n			\n				\n				\n				\n				\n				\n			\n				\n				\n				\n				\n				WAKING UP IN AMERICATHOSE WERE THE DAYSFeaturingTatiana ‘Tajci’ CameronSanya Matejas\,Brian Hanson on piano\,and David Langley on guitar \n			\n				\n				\n				\n				\n				Musical cabaret style show of the American Songbook with International Flair that will move you\, make you smile and remember how good it feels to sing along!
URL:https://tatianacameron.com/event/waking-up-in-america-mid-west-tour/
LOCATION:Washoe Theater\, 305 Main St\, Anaconda\, Montana\, 59711
CATEGORIES:WUIA Tour
END:VEVENT
BEGIN:VEVENT
DTSTART;TZID=America/Denver:20210926T163000
DTEND;TZID=America/Denver:20210926T183000
DTSTAMP:20260421T175032
CREATED:20210816T204004Z
LAST-MODIFIED:20210831T012019Z
UID:6060-1632673800-1632681000@tatianacameron.com
SUMMARY:Waking Up In America - 2021 Tour - Cheyenne\, WY
DESCRIPTION:Cheyenne Central HS AuditoriumCheyenne\, Wyoming \n			\n				\n				\n				\n				\n				\n			\n				\n				\n				\n				\n				WAKING UP IN AMERICATHOSE WERE THE DAYSFeaturingTatiana ‘Tajci’ CameronSanya Matejas\,Brian Hanson on piano\,and David Langley on guitar \n			\n				\n				\n				\n				\n				Musical cabaret style show of the American Songbook with International Flair that will move you\, make you smile and remember how good it feels to sing along!
URL:https://tatianacameron.com/event/waking-up-in-america-mid-west-tour-2/
LOCATION:Cheyenne Central High School\, 5500 Education Drive\, Cheyenne\, WY\, 82009\, United States
CATEGORIES:WUIA Tour
END:VEVENT
BEGIN:VEVENT
DTSTART;TZID=America/Denver:20210927T190000
DTEND;TZID=America/Denver:20210927T210000
DTSTAMP:20260421T175032
CREATED:20210816T205755Z
LAST-MODIFIED:20210823T204825Z
UID:6072-1632769200-1632776400@tatianacameron.com
SUMMARY:Waking Up In America - 2021 Tour - La Junta\, CO
DESCRIPTION:Arkansas Valley Community Concert AssociationEd Stafford TheaterLa Junta\, Colorado \nTickets available at the door – $20. \n			\n				\n				\n				\n				\n				\n			\n				\n				\n				\n				\n				WAKING UP IN AMERICATHOSE WERE THE DAYSFeaturingTatiana ‘Tajci’ CameronSanya Matejas\,Brian Hanson on piano\,and David Langley on guitar \n			\n				\n				\n				\n				\n				Musical cabaret style show of the American Songbook with International Flair that will move you\, make you smile and remember how good it feels to sing along!
URL:https://tatianacameron.com/event/waking-up-in-america-2021-mid-west-tour-la-junta-co/
LOCATION:Otero College Ed Stafford Theater\, Ed Stafford Theater\, 1802 Colorado Ave\, La Junta\, CO\, 81050\, United States
CATEGORIES:WUIA Tour
END:VEVENT
BEGIN:VEVENT
DTSTART;TZID=America/Chicago:20210928T190000
DTEND;TZID=America/Chicago:20210928T210000
DTSTAMP:20260421T175032
CREATED:20210816T213237Z
LAST-MODIFIED:20210914T014506Z
UID:6088-1632855600-1632862800@tatianacameron.com
SUMMARY:Waking Up In America - 2021 Tour - Pratt\, KS
DESCRIPTION:Pratt Community CollegePratt\, Kansas \nMembers only event at this time.No non-member tickets available at this time. \n			\n				\n				\n				\n				\n				\n			\n				\n				\n				\n				\n				WAKING UP IN AMERICATHOSE WERE THE DAYSFeaturingTatiana ‘Tajci’ CameronSanya Matejas\,Brian Hanson on piano\,and David Langley on guitar \n			\n				\n				\n				\n				\n				Musical cabaret style show of the American Songbook with International Flair that will move you\, make you smile and remember how good it feels to sing along!
URL:https://tatianacameron.com/event/waking-up-in-america-2021-mid-west-tour-pratt-ks/
LOCATION:Pratt Community College\, 348 NE SR 61\, Pratt\, KS\, 67124\, United States
CATEGORIES:WUIA Tour
END:VEVENT
BEGIN:VEVENT
DTSTART;TZID=America/Chicago:20210930T193000
DTEND;TZID=America/Chicago:20210930T213000
DTSTAMP:20260421T175032
CREATED:20210816T221001Z
LAST-MODIFIED:20210914T014428Z
UID:6099-1633030200-1633037400@tatianacameron.com
SUMMARY:Waking Up In America - 2021 Tour - Grand Is\, NE
DESCRIPTION:Grand Island HS AuditoriumGrand Island\, Nebraska \nTickets available at the door – $30 \n			\n				\n				\n				\n				\n				\n			\n				\n				\n				\n				\n				WAKING UP IN AMERICATHOSE WERE THE DAYSFeaturingTatiana ‘Tajci’ CameronSanya Matejas\,Brian Hanson on piano\,and David Langley on guitar \n			\n				\n				\n				\n				\n				Musical cabaret style show of the American Songbook with International Flair that will move you\, make you smile and remember how good it feels to sing along!
URL:https://tatianacameron.com/event/waking-up-in-america-2021-mid-west-tour-grand-is-ne/
LOCATION:Grand Island High School\, 2124 N. Lafayette Ave\, Grand Island\, NE\, 68802\, United States
CATEGORIES:WUIA Tour
END:VEVENT
END:VCALENDAR