BEGIN:VCALENDAR
VERSION:2.0
PRODID:-//Tatiana &#039;Tajci&#039; Cameron - ECPv6.15.20//NONSGML v1.0//EN
CALSCALE:GREGORIAN
METHOD:PUBLISH
X-WR-CALNAME:Tatiana &#039;Tajci&#039; Cameron
X-ORIGINAL-URL:https://tatianacameron.com
X-WR-CALDESC:Events for Tatiana &#039;Tajci&#039; Cameron
REFRESH-INTERVAL;VALUE=DURATION:PT1H
X-Robots-Tag:noindex
X-PUBLISHED-TTL:PT1H
BEGIN:VTIMEZONE
TZID:America/Chicago
BEGIN:DAYLIGHT
TZOFFSETFROM:-0600
TZOFFSETTO:-0500
TZNAME:CDT
DTSTART:20200308T080000
END:DAYLIGHT
BEGIN:STANDARD
TZOFFSETFROM:-0500
TZOFFSETTO:-0600
TZNAME:CST
DTSTART:20201101T070000
END:STANDARD
BEGIN:DAYLIGHT
TZOFFSETFROM:-0600
TZOFFSETTO:-0500
TZNAME:CDT
DTSTART:20210314T080000
END:DAYLIGHT
BEGIN:STANDARD
TZOFFSETFROM:-0500
TZOFFSETTO:-0600
TZNAME:CST
DTSTART:20211107T070000
END:STANDARD
BEGIN:DAYLIGHT
TZOFFSETFROM:-0600
TZOFFSETTO:-0500
TZNAME:CDT
DTSTART:20220313T080000
END:DAYLIGHT
BEGIN:STANDARD
TZOFFSETFROM:-0500
TZOFFSETTO:-0600
TZNAME:CST
DTSTART:20221106T070000
END:STANDARD
END:VTIMEZONE
BEGIN:VEVENT
DTSTART;TZID=America/Chicago:20210402T130000
DTEND;TZID=America/Chicago:20210402T130000
DTSTAMP:20260422T062228
CREATED:20210327T043615Z
LAST-MODIFIED:20210328T180413Z
UID:5354-1617368400-1617368400@tatianacameron.com
SUMMARY:I Thirst - Good Friday Concert
DESCRIPTION:Join me for a special showing of my Lenten concert “I Thirst“\, recorded in 2004. I will be presenting this show on YouTube\, and chatting with you during the showing. This is a 1-Hour presentation from my DVD “I Thirst”. \nIt is offered exclusively to my Patrons\, and to those who contribute a small donation ($5 and up). \nWe will send you an email with the link to watch the show. \n			\n				Click Here to view the show trailer video\n			\n				Click Here to donate and participate in this event
URL:https://tatianacameron.com/event/i-thirst-good-friday-concert/
END:VEVENT
BEGIN:VEVENT
DTSTART;TZID=America/Chicago:20210422T170000
DTEND;TZID=America/Chicago:20210422T210000
DTSTAMP:20260422T062228
CREATED:20210409T094006Z
LAST-MODIFIED:20210409T094006Z
UID:5512-1619110800-1619125200@tatianacameron.com
SUMMARY:Tajci & David at Izzy's
DESCRIPTION:
URL:https://tatianacameron.com/event/tajci-david-at-izzys/
LOCATION:Izzy’s\, 901 Columbia Ave\, Franklin\, TN\, 37064\, United States
END:VEVENT
END:VCALENDAR