BEGIN:VCALENDAR
VERSION:2.0
PRODID:-//Tatiana &#039;Tajci&#039; Cameron - ECPv6.15.20//NONSGML v1.0//EN
CALSCALE:GREGORIAN
METHOD:PUBLISH
X-WR-CALNAME:Tatiana &#039;Tajci&#039; Cameron
X-ORIGINAL-URL:https://tatianacameron.com
X-WR-CALDESC:Events for Tatiana &#039;Tajci&#039; Cameron
REFRESH-INTERVAL;VALUE=DURATION:PT1H
X-Robots-Tag:noindex
X-PUBLISHED-TTL:PT1H
BEGIN:VTIMEZONE
TZID:America/Chicago
BEGIN:DAYLIGHT
TZOFFSETFROM:-0600
TZOFFSETTO:-0500
TZNAME:CDT
DTSTART:20200308T080000
END:DAYLIGHT
BEGIN:STANDARD
TZOFFSETFROM:-0500
TZOFFSETTO:-0600
TZNAME:CST
DTSTART:20201101T070000
END:STANDARD
BEGIN:DAYLIGHT
TZOFFSETFROM:-0600
TZOFFSETTO:-0500
TZNAME:CDT
DTSTART:20210314T080000
END:DAYLIGHT
BEGIN:STANDARD
TZOFFSETFROM:-0500
TZOFFSETTO:-0600
TZNAME:CST
DTSTART:20211107T070000
END:STANDARD
BEGIN:DAYLIGHT
TZOFFSETFROM:-0600
TZOFFSETTO:-0500
TZNAME:CDT
DTSTART:20220313T080000
END:DAYLIGHT
BEGIN:STANDARD
TZOFFSETFROM:-0500
TZOFFSETTO:-0600
TZNAME:CST
DTSTART:20221106T070000
END:STANDARD
END:VTIMEZONE
BEGIN:VEVENT
DTSTART;VALUE=DATE:20210508
DTEND;VALUE=DATE:20210509
DTSTAMP:20260420T020024
CREATED:20210505T000138Z
LAST-MODIFIED:20210505T002114Z
UID:5593-1620432000-1620518399@tatianacameron.com
SUMMARY:Mother's Day Event\, Prescott\, AZ
DESCRIPTION:Special invitation only event for Mother’s Day \n 
URL:https://tatianacameron.com/event/mothers-day-event-prescot-az/
LOCATION:Prescott\, Arizona
END:VEVENT
BEGIN:VEVENT
DTSTART;TZID=America/Chicago:20210504T190000
DTEND;TZID=America/Chicago:20210504T200000
DTSTAMP:20260420T020024
CREATED:20210504T235202Z
LAST-MODIFIED:20210505T143119Z
UID:5584-1620154800-1620158400@tatianacameron.com
SUMMARY:YouTube LIVE Tuesday - David and Tajci Show
DESCRIPTION:YouTube.com/TajciTV \nPerforming classic country\, pop\, standards and originals. \n			\n				\n				\n				\n				\n				Celebrate with us the onset of Spring\,(and the waning of this pandemic.)Join us in Song\, Laughter\, and simple Fun.And Smile and DANCE with us in your home.
URL:https://tatianacameron.com/event/youtube-live/
LOCATION:Tajci’s Music Room\, Franklin\, TN\, 37069\, United States
CATEGORIES:Living Room Concert
END:VEVENT
BEGIN:VEVENT
DTSTART;TZID=America/Chicago:20210422T170000
DTEND;TZID=America/Chicago:20210422T210000
DTSTAMP:20260420T020024
CREATED:20210409T094006Z
LAST-MODIFIED:20210409T094006Z
UID:5512-1619110800-1619125200@tatianacameron.com
SUMMARY:Tajci & David at Izzy's
DESCRIPTION:
URL:https://tatianacameron.com/event/tajci-david-at-izzys/
LOCATION:Izzy’s\, 901 Columbia Ave\, Franklin\, TN\, 37064\, United States
END:VEVENT
BEGIN:VEVENT
DTSTART;TZID=America/Chicago:20210402T130000
DTEND;TZID=America/Chicago:20210402T130000
DTSTAMP:20260420T020024
CREATED:20210327T043615Z
LAST-MODIFIED:20210328T180413Z
UID:5354-1617368400-1617368400@tatianacameron.com
SUMMARY:I Thirst - Good Friday Concert
DESCRIPTION:Join me for a special showing of my Lenten concert “I Thirst“\, recorded in 2004. I will be presenting this show on YouTube\, and chatting with you during the showing. This is a 1-Hour presentation from my DVD “I Thirst”. \nIt is offered exclusively to my Patrons\, and to those who contribute a small donation ($5 and up). \nWe will send you an email with the link to watch the show. \n			\n				Click Here to view the show trailer video\n			\n				Click Here to donate and participate in this event
URL:https://tatianacameron.com/event/i-thirst-good-friday-concert/
END:VEVENT
BEGIN:VEVENT
DTSTART;TZID=America/Chicago:20210331T200000
DTEND;TZID=America/Chicago:20210331T200000
DTSTAMP:20260420T020024
CREATED:20210311T024254Z
LAST-MODIFIED:20210328T182051Z
UID:5268-1617220800-1617220800@tatianacameron.com
SUMMARY:Sessions Live Wednesday\, with Tajci and David
DESCRIPTION:SessionsLive.com/DavidAndTajci \nPerforming classic country\, pop\, standards and originals. \n			\n				\n				\n				\n				\n				Celebrate with us the onset of Spring\,(and the waning of this pandemic.)Join us in Song\, Laughter\, and simple Fun.And Smile and DANCE with us in your home.
URL:https://tatianacameron.com/event/sessions-live-wednesday-with-tajci-and-david-2/
LOCATION:Tajci’s Music Room\, Franklin\, TN\, 37069\, United States
END:VEVENT
BEGIN:VEVENT
DTSTART;TZID=America/Chicago:20210330T140000
DTEND;TZID=America/Chicago:20210330T140000
DTSTAMP:20260420T020024
CREATED:20210311T024028Z
LAST-MODIFIED:20210328T181929Z
UID:5265-1617112800-1617112800@tatianacameron.com
SUMMARY:Sessions Live Tuesday\, with Tajci and David
DESCRIPTION:SessionsLive.com/DavidAndTajci \nPerforming classic country\, pop\, standards and originals. \n			\n				\n				\n				\n				\n				Celebrate with us the onset of Spring\,(and the waning of this pandemic.)Join us in Song\, Laughter\, and simple Fun.And Smile and DANCE with us in your home.
URL:https://tatianacameron.com/event/sessions-live-tuesday-with-tajci-and-david-2/
LOCATION:Tajci’s Music Room\, Franklin\, TN\, 37069\, United States
END:VEVENT
BEGIN:VEVENT
DTSTART;TZID=America/Chicago:20210327T140000
DTEND;TZID=America/Chicago:20210327T150000
DTSTAMP:20260420T020024
CREATED:20210309T161924Z
LAST-MODIFIED:20210309T222607Z
UID:5187-1616853600-1616857200@tatianacameron.com
SUMMARY:Saturday Afternoon with Tajci and David
DESCRIPTION:YouTube show.Link to be furnished. \n			\n				\n				\n				\n				\n				Celebrate with us the onset of Spring\,(and the waning of this pandemic.)Join us in Song\, Laughter\, and simple Fun.And Smile and DANCE with us in your home.
URL:https://tatianacameron.com/event/saturday-afternoon-with-tajci-and-david/
LOCATION:Tajci’s Music Room\, Franklin\, TN\, 37069\, United States
CATEGORIES:Living Room Concert
END:VEVENT
BEGIN:VEVENT
DTSTART;TZID=America/Chicago:20210326T200000
DTEND;TZID=America/Chicago:20210326T210000
DTSTAMP:20260420T020024
CREATED:20210309T165544Z
LAST-MODIFIED:20210311T015515Z
UID:5208-1616788800-1616792400@tatianacameron.com
SUMMARY:Soul Friday
DESCRIPTION:Live show exclusively for Tajci’s Patreon Family. \n  \n			\n				\n				\n				\n				\n				An inspirational evening of gratitude and grace\, presented by Tajci in her unique blend of song and soulful reflection. \nThis show is offered free to Tajci’s patrons. if you aren’t yet a patron\, please consider joining Tajci’s family to participate in events such as this. The link to join is furnished below. Membership starts at just $1/month. \n			\n				\n				\n				\n				\n				Patreon.com/WakingUp\n			\n				\n				\n				\n				\n				Alternatively\, you may access this show with a small donation. Please follow this link to donate. (Minimum amount is $5.)We will then email to you the YouTube link to this show. \n			\n				\n				\n				\n				\n				Donation link:\nWakingUp-Store.myshopify.com
URL:https://tatianacameron.com/event/soul-friday-2/
LOCATION:Tajci’s Music Room\, Franklin\, TN\, 37069\, United States
END:VEVENT
BEGIN:VEVENT
DTSTART;TZID=America/Chicago:20210325T200000
DTEND;TZID=America/Chicago:20210325T213000
DTSTAMP:20260420T020024
CREATED:20210311T023814Z
LAST-MODIFIED:20210312T002715Z
UID:5262-1616702400-1616707800@tatianacameron.com
SUMMARY:Sessions Live Thursday\, with Tajci and David
DESCRIPTION:SessionsLive.com/DavidAndTajci \nPerforming classic country\, pop\, standards and originals.
URL:https://tatianacameron.com/event/sessions-live-thursday-with-tajci-and-david/
LOCATION:Tajci’s Music Room\, Franklin\, TN\, 37069\, United States
END:VEVENT
BEGIN:VEVENT
DTSTART;TZID=America/Chicago:20210324T200000
DTEND;TZID=America/Chicago:20210324T213000
DTSTAMP:20260420T020024
CREATED:20210311T023552Z
LAST-MODIFIED:20210312T002553Z
UID:5259-1616616000-1616621400@tatianacameron.com
SUMMARY:Sessions Live Wednesday\, with Tajci and David
DESCRIPTION:SessionsLive.com/DavidAndTajci \nPerforming classic country\, pop\, standards and originals.
URL:https://tatianacameron.com/event/sessions-live-wednesday-with-tajci-and-david/
LOCATION:Tajci’s Music Room\, Franklin\, TN\, 37069\, United States
END:VEVENT
BEGIN:VEVENT
DTSTART;TZID=America/Chicago:20210323T140000
DTEND;TZID=America/Chicago:20210323T153000
DTSTAMP:20260420T020024
CREATED:20210311T020343Z
LAST-MODIFIED:20210312T002450Z
UID:5256-1616508000-1616513400@tatianacameron.com
SUMMARY:Sessions Live Tuesday\, with Tajci and David
DESCRIPTION:SessionsLive.com/DavidAndTajci \nPerforming classic country\, pop\, standards and originals.
URL:https://tatianacameron.com/event/sessions-live-tuesday-with-tajci-and-david/
LOCATION:Tajci’s Music Room\, Franklin\, TN\, 37069\, United States
END:VEVENT
BEGIN:VEVENT
DTSTART;TZID=America/Chicago:20210318T200000
DTEND;TZID=America/Chicago:20210318T210000
DTSTAMP:20260420T020025
CREATED:20210312T035143Z
LAST-MODIFIED:20210312T192531Z
UID:5300-1616097600-1616101200@tatianacameron.com
SUMMARY:Sessions Live Thursday\, with David Langley
DESCRIPTION:SessionsLive.com/DavidAndTajci \nPerforming classic country hits. \n			\n				\n				\n				\n				\n				Join David in his studio for a fun hour of live classic country singing\, interactive chat\, and recollections of life on the road alongside the legends of country music.
URL:https://tatianacameron.com/event/sessions-live-thursday-with-david-langley/
END:VEVENT
BEGIN:VEVENT
DTSTART;TZID=America/Chicago:20210317T200000
DTEND;TZID=America/Chicago:20210317T210000
DTSTAMP:20260420T020025
CREATED:20210312T034822Z
LAST-MODIFIED:20210312T192332Z
UID:5291-1616011200-1616014800@tatianacameron.com
SUMMARY:Sessions Live Wednesday\, with David Langley
DESCRIPTION:SessionsLive.com/DavidAndTajci \nPerforming classic country hits. \n			\n				\n				\n				\n				\n				Join David in his studio for a fun hour of live classic country singing\, interactive chat\, and recollections of life on the road alongside the legends of country music.
URL:https://tatianacameron.com/event/sessions-live-wednesday-with-david-langley/
END:VEVENT
BEGIN:VEVENT
DTSTART;TZID=America/Chicago:20210316T140000
DTEND;TZID=America/Chicago:20210316T150000
DTSTAMP:20260420T020025
CREATED:20210311T040118Z
LAST-MODIFIED:20210312T192438Z
UID:5272-1615903200-1615906800@tatianacameron.com
SUMMARY:Sessions Live Tuesday\, with David Langley
DESCRIPTION:SessionsLive.com/DavidAndTajci \nPerforming classic country hits. \n			\n				\n				\n				\n				\n				Join David in his studio for a fun hour of live classic country singing\, interactive chat\, and recollections of life on the road alongside the legends of country music.
URL:https://tatianacameron.com/event/sessions-live-tuesday-with-david-langley/
END:VEVENT
BEGIN:VEVENT
DTSTART;TZID=America/Chicago:20210313T140000
DTEND;TZID=America/Chicago:20210313T153000
DTSTAMP:20260420T020025
CREATED:20210311T015257Z
LAST-MODIFIED:20210312T002350Z
UID:5250-1615644000-1615649400@tatianacameron.com
SUMMARY:Sessions Live Saturday\, with Tajci and David
DESCRIPTION:SessionsLive.com/DavidAndTajci \n			\n				\n				\n				\n				\n				Celebrate with us the onset of Spring\,(and the waning of this pandemic.)Join us in Song\, Laughter\, and simple Fun.And Smile and DANCE with us in your home.
URL:https://tatianacameron.com/event/sessions-live-saturday-with-tajci-and-david/
LOCATION:Tajci’s Music Room\, Franklin\, TN\, 37069\, United States
END:VEVENT
BEGIN:VEVENT
DTSTART;TZID=America/Chicago:20210312T190000
DTEND;TZID=America/Chicago:20210312T200000
DTSTAMP:20260420T020025
CREATED:20210309T222147Z
LAST-MODIFIED:20210312T193723Z
UID:5243-1615575600-1615579200@tatianacameron.com
SUMMARY:Soul Friday
DESCRIPTION:Live show exclusively for Tajci’s Patreon Family. \n  \n			\n				\n				\n				\n				\n				An inspirational evening of gratitude and grace\, presented by Tajci in her unique blend of song and soulful reflection. \nThis show is offered free to Tajci’s patrons. if you aren’t yet a patron\, please consider joining Tajci’s family to participate in events such as this. The link to join is furnished below. Membership starts at just $1/month. \n			\n				\n				\n				\n				\n				Patreon.com/WakingUp\n			\n				\n				\n				\n				\n				Alternatively\, you may access this show with a small donation. Please follow this link to donate. (Minimum amount is $5.)We will then email to you the YouTube link to this show. \n			\n				\n				\n				\n				\n				Donation link:\nWakingUp-Store.myshopify.com
URL:https://tatianacameron.com/event/soul-friday/
LOCATION:Tajci’s Music Room\, Franklin\, TN\, 37069\, United States
END:VEVENT
BEGIN:VEVENT
DTSTART;TZID=America/Chicago:20210311T200000
DTEND;TZID=America/Chicago:20210311T213000
DTSTAMP:20260420T020025
CREATED:20210309T020822Z
LAST-MODIFIED:20210312T001815Z
UID:5138-1615492800-1615498200@tatianacameron.com
SUMMARY:Sessions Live show with Tajci and David
DESCRIPTION:SessionsLive.com/DavidAndTajci \nPerforming classic country\, pop\, standards and originals.
URL:https://tatianacameron.com/event/sessions-live-show-with-tajci-and-david-3/
LOCATION:Tajci’s Music Room\, Franklin\, TN\, 37069\, United States
CATEGORIES:SessionsLive
END:VEVENT
BEGIN:VEVENT
DTSTART;TZID=America/Chicago:20210310T200000
DTEND;TZID=America/Chicago:20210310T213000
DTSTAMP:20260420T020025
CREATED:20210309T023005Z
LAST-MODIFIED:20210309T222431Z
UID:5155-1615406400-1615411800@tatianacameron.com
SUMMARY:Sessions Live show with Tajci and David
DESCRIPTION:SessionsLive.com/TatianaTaj58 \nPerforming classic country\, pop\, standards and originals.
URL:https://tatianacameron.com/event/sessions-live-show-with-tajci-and-david/
LOCATION:Tajci’s Music Room\, Franklin\, TN\, 37069\, United States
CATEGORIES:SessionsLive
END:VEVENT
BEGIN:VEVENT
DTSTART;TZID=America/Chicago:20210309T140000
DTEND;TZID=America/Chicago:20210309T153000
DTSTAMP:20260420T020025
CREATED:20210309T022455Z
LAST-MODIFIED:20210309T222324Z
UID:5146-1615298400-1615303800@tatianacameron.com
SUMMARY:Sessions Live show with Tajci and David
DESCRIPTION:SessionsLive.com/TatianaTaj58 \nPerforming classic country\, pop\, standards and originals.
URL:https://tatianacameron.com/event/5146/
LOCATION:Tajci’s Music Room\, Franklin\, TN\, 37069\, United States
END:VEVENT
END:VCALENDAR