BEGIN:VCALENDAR
VERSION:2.0
PRODID:-//Tatiana &#039;Tajci&#039; Cameron - ECPv6.15.20//NONSGML v1.0//EN
CALSCALE:GREGORIAN
METHOD:PUBLISH
X-WR-CALNAME:Tatiana &#039;Tajci&#039; Cameron
X-ORIGINAL-URL:https://tatianacameron.com
X-WR-CALDESC:Events for Tatiana &#039;Tajci&#039; Cameron
REFRESH-INTERVAL;VALUE=DURATION:PT1H
X-Robots-Tag:noindex
X-PUBLISHED-TTL:PT1H
BEGIN:VTIMEZONE
TZID:America/Los_Angeles
BEGIN:DAYLIGHT
TZOFFSETFROM:-0800
TZOFFSETTO:-0700
TZNAME:PDT
DTSTART:20240310T100000
END:DAYLIGHT
BEGIN:STANDARD
TZOFFSETFROM:-0700
TZOFFSETTO:-0800
TZNAME:PST
DTSTART:20241103T090000
END:STANDARD
BEGIN:DAYLIGHT
TZOFFSETFROM:-0800
TZOFFSETTO:-0700
TZNAME:PDT
DTSTART:20250309T100000
END:DAYLIGHT
BEGIN:STANDARD
TZOFFSETFROM:-0700
TZOFFSETTO:-0800
TZNAME:PST
DTSTART:20251102T090000
END:STANDARD
BEGIN:DAYLIGHT
TZOFFSETFROM:-0800
TZOFFSETTO:-0700
TZNAME:PDT
DTSTART:20260308T100000
END:DAYLIGHT
BEGIN:STANDARD
TZOFFSETFROM:-0700
TZOFFSETTO:-0800
TZNAME:PST
DTSTART:20261101T090000
END:STANDARD
END:VTIMEZONE
BEGIN:VTIMEZONE
TZID:America/Denver
BEGIN:DAYLIGHT
TZOFFSETFROM:-0700
TZOFFSETTO:-0600
TZNAME:MDT
DTSTART:20240310T090000
END:DAYLIGHT
BEGIN:STANDARD
TZOFFSETFROM:-0600
TZOFFSETTO:-0700
TZNAME:MST
DTSTART:20241103T080000
END:STANDARD
BEGIN:DAYLIGHT
TZOFFSETFROM:-0700
TZOFFSETTO:-0600
TZNAME:MDT
DTSTART:20250309T090000
END:DAYLIGHT
BEGIN:STANDARD
TZOFFSETFROM:-0600
TZOFFSETTO:-0700
TZNAME:MST
DTSTART:20251102T080000
END:STANDARD
BEGIN:DAYLIGHT
TZOFFSETFROM:-0700
TZOFFSETTO:-0600
TZNAME:MDT
DTSTART:20260308T090000
END:DAYLIGHT
BEGIN:STANDARD
TZOFFSETFROM:-0600
TZOFFSETTO:-0700
TZNAME:MST
DTSTART:20261101T080000
END:STANDARD
END:VTIMEZONE
BEGIN:VTIMEZONE
TZID:America/Chicago
BEGIN:DAYLIGHT
TZOFFSETFROM:-0600
TZOFFSETTO:-0500
TZNAME:CDT
DTSTART:20240310T080000
END:DAYLIGHT
BEGIN:STANDARD
TZOFFSETFROM:-0500
TZOFFSETTO:-0600
TZNAME:CST
DTSTART:20241103T070000
END:STANDARD
BEGIN:DAYLIGHT
TZOFFSETFROM:-0600
TZOFFSETTO:-0500
TZNAME:CDT
DTSTART:20250309T080000
END:DAYLIGHT
BEGIN:STANDARD
TZOFFSETFROM:-0500
TZOFFSETTO:-0600
TZNAME:CST
DTSTART:20251102T070000
END:STANDARD
BEGIN:DAYLIGHT
TZOFFSETFROM:-0600
TZOFFSETTO:-0500
TZNAME:CDT
DTSTART:20260308T080000
END:DAYLIGHT
BEGIN:STANDARD
TZOFFSETFROM:-0500
TZOFFSETTO:-0600
TZNAME:CST
DTSTART:20261101T070000
END:STANDARD
END:VTIMEZONE
BEGIN:VTIMEZONE
TZID:Europe/Zagreb
BEGIN:DAYLIGHT
TZOFFSETFROM:+0100
TZOFFSETTO:+0200
TZNAME:CEST
DTSTART:20240331T010000
END:DAYLIGHT
BEGIN:STANDARD
TZOFFSETFROM:+0200
TZOFFSETTO:+0100
TZNAME:CET
DTSTART:20241027T010000
END:STANDARD
BEGIN:DAYLIGHT
TZOFFSETFROM:+0100
TZOFFSETTO:+0200
TZNAME:CEST
DTSTART:20250330T010000
END:DAYLIGHT
BEGIN:STANDARD
TZOFFSETFROM:+0200
TZOFFSETTO:+0100
TZNAME:CET
DTSTART:20251026T010000
END:STANDARD
BEGIN:DAYLIGHT
TZOFFSETFROM:+0100
TZOFFSETTO:+0200
TZNAME:CEST
DTSTART:20260329T010000
END:DAYLIGHT
BEGIN:STANDARD
TZOFFSETFROM:+0200
TZOFFSETTO:+0100
TZNAME:CET
DTSTART:20261025T010000
END:STANDARD
END:VTIMEZONE
BEGIN:VEVENT
DTSTART;TZID=America/Los_Angeles:20250205T190000
DTEND;TZID=America/Los_Angeles:20250205T210000
DTSTAMP:20260419T125010
CREATED:20241112T153945Z
LAST-MODIFIED:20250124T152742Z
UID:8353-1738782000-1738789200@tatianacameron.com
SUMMARY:Window in a Wall - Borego Springs\, CA
DESCRIPTION:BORREGO SPRINGS PERFORMING ARTS CENTER\n“Window in a Wall”by Tajci Cameron & Sanya Mateyas\n4-Piece Multi-National Song and Dance Show \n– Tajci: European Teen Pop Sensation with Platinum Record Sales \n– Sanya: Lead Vocalist for Trans-Siberian Orchestra Tour \nBringing the world together through the universal language of music\, sisters Tajci Cameron and Sanya Mateyas present their new show “Window in a Wall” – a unique blend of light Jazz\, show tunes\, classic pop standards\, European ethnic\, and gypsy-influenced music. Echoing the song “Window in the Wall\,” which was co-written by Tajci and recorded by Olivia Newton John\, the show features music that is beloved around the world\, with costumes and dance that highlight the sibling’s Croatian heritage. \nIf you take a walk down a cobble-stoned street of a Croatian village on a Sunday afternoon in late spring\, you will hear the music playing in homes. Through one window\, there will be a Croatian song\, another a jazz tune\, an American country or pop song\, a French chanson\, an Italian canzona\, or a Gypsy jam. The world will come together around you\, reminding you that\, when we pause and listen\, we are all connected and can learn so much about each other. The music is here to bring us together\, soften our hearts\, and listen\, come together\, dance\, sing in harmony\, laugh\, and love. As the Window in the Wall song says: Looking through a window in the wall\, maybe we can see the other side. Find we’re not so different after all\, looking for a window in the wall. \n 
URL:https://tatianacameron.com/event/window-in-a-wall-borego-springs-ca/
LOCATION:Borego Springs Performing Arts Center\, 590 Palm Canyon Drive\, Borrego Springs\, CA\, 92004\, United States
END:VEVENT
BEGIN:VEVENT
DTSTART;TZID=America/Denver:20250208T183000
DTEND;TZID=America/Denver:20250208T203000
DTSTAMP:20260419T125010
CREATED:20241112T224838Z
LAST-MODIFIED:20250124T152641Z
UID:8371-1739039400-1739046600@tatianacameron.com
SUMMARY:Window in a Wall - Elko\, NV
DESCRIPTION:ELKO HIGH SCHOOL PERFORMING ARTS AUDITORIUM\n“Window in a Wall”by Tajci Cameron & Sanya Mateyas\n4-Piece Multi-National Song and Dance Show \n– Tajci: European Teen Pop Sensation with Platinum Record Sales \n– Sanya: Lead Vocalist for Trans-Siberian Orchestra Tour \nBringing the world together through the universal language of music\, sisters Tajci Cameron and Sanya Mateyas present their new show “Window in a Wall” – a unique blend of light Jazz\, show tunes\, classic pop standards\, European ethnic\, and gypsy-influenced music. Echoing the song “Window in the Wall\,” which was co-written by Tajci and recorded by Olivia Newton John\, the show features music that is beloved around the world\, with costumes and dance that highlight the sibling’s Croatian heritage. \nIf you take a walk down a cobble-stoned street of a Croatian village on a Sunday afternoon in late spring\, you will hear the music playing in homes. Through one window\, there will be a Croatian song\, another a jazz tune\, an American country or pop song\, a French chanson\, an Italian canzona\, or a Gypsy jam. The world will come together around you\, reminding you that\, when we pause and listen\, we are all connected and can learn so much about each other. The music is here to bring us together\, soften our hearts\, and listen\, come together\, dance\, sing in harmony\, laugh\, and love. As the Window in the Wall song says: Looking through a window in the wall\, maybe we can see the other side. Find we’re not so different after all\, looking for a window in the wall. 
URL:https://tatianacameron.com/event/window-in-a-wall-elko-nv/
LOCATION:Elko High School Performing Arts Aud.\, College Ave & 13th St\, Elko\, NV\, 89801\, United States
END:VEVENT
BEGIN:VEVENT
DTSTART;TZID=America/Los_Angeles:20250211T193000
DTEND;TZID=America/Los_Angeles:20250211T213000
DTSTAMP:20260419T125011
CREATED:20241112T225541Z
LAST-MODIFIED:20250124T152828Z
UID:8380-1739302200-1739309400@tatianacameron.com
SUMMARY:Window in a Wall - Longview\, WA
DESCRIPTION:COLUMBIA THEATRE ASSOCIATION FOR THE PERFORMING ARTS\n“Window in a Wall”by Tajci Cameron & Sanya Mateyas\n \n4-Piece Multi-National Song and Dance Show \n– Tajci: European Teen Pop Sensation with Platinum Record Sales \n– Sanya: Lead Vocalist for Trans-Siberian Orchestra Tour \nBringing the world together through the universal language of music\, sisters Tajci Cameron and Sanya Mateyas present their new show “Window in a Wall” – a unique blend of light Jazz\, show tunes\, classic pop standards\, European ethnic\, and gypsy-influenced music. Echoing the song “Window in the Wall\,” which was co-written by Tajci and recorded by Olivia Newton John\, the show features music that is beloved around the world\, with costumes and dance that highlight the sibling’s Croatian heritage. \nIf you take a walk down a cobble-stoned street of a Croatian village on a Sunday afternoon in late spring\, you will hear the music playing in homes. Through one window\, there will be a Croatian song\, another a jazz tune\, an American country or pop song\, a French chanson\, an Italian canzona\, or a Gypsy jam. The world will come together around you\, reminding you that\, when we pause and listen\, we are all connected and can learn so much about each other. The music is here to bring us together\, soften our hearts\, and listen\, come together\, dance\, sing in harmony\, laugh\, and love. As the Window in the Wall song says: Looking through a window in the wall\, maybe we can see the other side. Find we’re not so different after all\, looking for a window in the wall. 
URL:https://tatianacameron.com/event/window-in-a-wall-longview-wa/
LOCATION:Columbia Theatre Association for the Performing Arts\, 1231 Vandercook Way\, Longview\, WA\, 98632\, United States
END:VEVENT
BEGIN:VEVENT
DTSTART;TZID=America/Chicago:20250215T190000
DTEND;TZID=America/Chicago:20250215T213000
DTSTAMP:20260419T125011
CREATED:20250123T005633Z
LAST-MODIFIED:20250123T005709Z
UID:8454-1739646000-1739655000@tatianacameron.com
SUMMARY:Valentine's Day Bash
DESCRIPTION:Private event\nCincinnati\, OH
URL:https://tatianacameron.com/event/valentines-day-bash/
END:VEVENT
BEGIN:VEVENT
DTSTART;TZID=America/Chicago:20250227T190000
DTEND;TZID=America/Chicago:20250227T210000
DTSTAMP:20260419T125011
CREATED:20250124T145357Z
LAST-MODIFIED:20250223T180059Z
UID:8477-1740682800-1740690000@tatianacameron.com
SUMMARY:Window in a Wall - Highland IN
DESCRIPTION:HIGHLAND HIGH SCHOOL AUDITORIUM\n“Window in a Wall”by Tajci Cameron & Sanya Mateyas\n4-Piece Multi-National Song and Dance Show \n– Tajci: European Teen Pop Sensation with Platinum Record Sales \n– Sanya: Lead Vocalist for Trans-Siberian Orchestra Tour \nBringing the world together through the universal language of music\, sisters Tajci Cameron and Sanya Mateyas present their new show “Window in a Wall” – a unique blend of light Jazz\, show tunes\, classic pop standards\, European ethnic\, and gypsy-influenced music. Echoing the song “Window in the Wall\,” which was co-written by Tajci and recorded by Olivia Newton John\, the show features music that is beloved around the world\, with costumes and dance that highlight the sibling’s Croatian heritage. \nIf you take a walk down a cobble-stoned street of a Croatian village on a Sunday afternoon in late spring\, you will hear the music playing in homes. Through one window\, there will be a Croatian song\, another a jazz tune\, an American country or pop song\, a French chanson\, an Italian canzona\, or a Gypsy jam. The world will come together around you\, reminding you that\, when we pause and listen\, we are all connected and can learn so much about each other. The music is here to bring us together\, soften our hearts\, and listen\, come together\, dance\, sing in harmony\, laugh\, and love. As the Window in the Wall song says: Looking through a window in the wall\, maybe we can see the other side. Find we’re not so different after all\, looking for a window in the wall. \n 
URL:https://tatianacameron.com/event/window-in-a-wall-highland-in/
LOCATION:Highland High School\, 9135 Erie St\, Highland\, Indiana\, 46322
END:VEVENT
BEGIN:VEVENT
DTSTART;TZID=America/Chicago:20250302T150000
DTEND;TZID=America/Chicago:20250302T170000
DTSTAMP:20260419T125011
CREATED:20241112T230134Z
LAST-MODIFIED:20250124T153114Z
UID:8384-1740927600-1740934800@tatianacameron.com
SUMMARY:Window in a Wall - Minot\, ND
DESCRIPTION:ANN NICOLE NELSON HALL\, MINOT STATE UNIVERSITY\n“Window in a Wall”by Tajci Cameron & Sanya Mateyas\n4-Piece Multi-National Song and Dance Show \n– Tajci: European Teen Pop Sensation with Platinum Record Sales \n– Sanya: Lead Vocalist for Trans-Siberian Orchestra Tour \nBringing the world together through the universal language of music\, sisters Tajci Cameron and Sanya Mateyas present their new show “Window in a Wall” – a unique blend of light Jazz\, show tunes\, classic pop standards\, European ethnic\, and gypsy-influenced music. Echoing the song “Window in the Wall\,” which was co-written by Tajci and recorded by Olivia Newton John\, the show features music that is beloved around the world\, with costumes and dance that highlight the sibling’s Croatian heritage. \nIf you take a walk down a cobble-stoned street of a Croatian village on a Sunday afternoon in late spring\, you will hear the music playing in homes. Through one window\, there will be a Croatian song\, another a jazz tune\, an American country or pop song\, a French chanson\, an Italian canzona\, or a Gypsy jam. The world will come together around you\, reminding you that\, when we pause and listen\, we are all connected and can learn so much about each other. The music is here to bring us together\, soften our hearts\, and listen\, come together\, dance\, sing in harmony\, laugh\, and love. As the Window in the Wall song says: Looking through a window in the wall\, maybe we can see the other side. Find we’re not so different after all\, looking for a window in the wall. \n 
URL:https://tatianacameron.com/event/window-in-a-wall-minot-nd/
LOCATION:Ann Nicole Nelson Hall\, Minot State University\, 500 University Ave. West\, Minot\, ND\, 58707\, United States
END:VEVENT
BEGIN:VEVENT
DTSTART;TZID=America/Chicago:20250321T053000
DTEND;TZID=America/Chicago:20250321T190000
DTSTAMP:20260419T125011
CREATED:20250103T162236Z
LAST-MODIFIED:20250103T162345Z
UID:8413-1742535000-1742583600@tatianacameron.com
SUMMARY:Ladies of Jazz
DESCRIPTION:Ladies of Jazz\nRudy’s Jazz Club\, Nashville TN
URL:https://tatianacameron.com/event/ladies-of-jazz/
LOCATION:Rudy’s Jazz Club\, 809 Gleaves St\,\, Nashville\, TN\, 37203\, United States
END:VEVENT
BEGIN:VEVENT
DTSTART;VALUE=DATE:20250405
DTEND;VALUE=DATE:20250406
DTSTAMP:20260419T125011
CREATED:20250103T163506Z
LAST-MODIFIED:20250104T192301Z
UID:8425-1743811200-1743897599@tatianacameron.com
SUMMARY:Children of the 90s\, Ljubljana\, Slovenia
DESCRIPTION:Children of the 90s\,\nLjubljana\, Slovenia
URL:https://tatianacameron.com/event/children-of-the-90s-ljubljana-slovenia/
END:VEVENT
BEGIN:VEVENT
DTSTART;TZID=America/Chicago:20250408T190000
DTEND;TZID=America/Chicago:20250408T210000
DTSTAMP:20260419T125011
CREATED:20241112T230456Z
LAST-MODIFIED:20250124T153236Z
UID:8388-1744138800-1744146000@tatianacameron.com
SUMMARY:Window in a Wall - Borger\, TX
DESCRIPTION:BORGER HIGH SCHOOL\n“Window in a Wall”by Tajci Cameron & Sanya Mateyas\n4-Piece Multi-National Song and Dance Show \n– Tajci: European Teen Pop Sensation with Platinum Record Sales \n– Sanya: Lead Vocalist for Trans-Siberian Orchestra Tour \nBringing the world together through the universal language of music\, sisters Tajci Cameron and Sanya Mateyas present their new show “Window in a Wall” – a unique blend of light Jazz\, show tunes\, classic pop standards\, European ethnic\, and gypsy-influenced music. Echoing the song “Window in the Wall\,” which was co-written by Tajci and recorded by Olivia Newton John\, the show features music that is beloved around the world\, with costumes and dance that highlight the sibling’s Croatian heritage. \nIf you take a walk down a cobble-stoned street of a Croatian village on a Sunday afternoon in late spring\, you will hear the music playing in homes. Through one window\, there will be a Croatian song\, another a jazz tune\, an American country or pop song\, a French chanson\, an Italian canzona\, or a Gypsy jam. The world will come together around you\, reminding you that\, when we pause and listen\, we are all connected and can learn so much about each other. The music is here to bring us together\, soften our hearts\, and listen\, come together\, dance\, sing in harmony\, laugh\, and love. As the Window in the Wall song says: Looking through a window in the wall\, maybe we can see the other side. Find we’re not so different after all\, looking for a window in the wall. \n 
URL:https://tatianacameron.com/event/window-in-a-wall-borger-tx/
LOCATION:Borger Sr. High School\, 100 West 1st Street\, Borger\, TX\, 79007\, United States
END:VEVENT
BEGIN:VEVENT
DTSTART;VALUE=DATE:20250426
DTEND;VALUE=DATE:20250427
DTSTAMP:20260419T125011
CREATED:20250103T163707Z
LAST-MODIFIED:20250124T150049Z
UID:8430-1745625600-1745711999@tatianacameron.com
SUMMARY:private event\, Croatia
DESCRIPTION:private event\,\nCroatia
URL:https://tatianacameron.com/event/private-event-croatia/
END:VEVENT
BEGIN:VEVENT
DTSTART;VALUE=DATE:20250427
DTEND;VALUE=DATE:20250428
DTSTAMP:20260419T125011
CREATED:20250124T150142Z
LAST-MODIFIED:20250124T150343Z
UID:8486-1745712000-1745798399@tatianacameron.com
SUMMARY:private event\, Croatia
DESCRIPTION:
URL:https://tatianacameron.com/event/private-event-croatia-2/
END:VEVENT
BEGIN:VEVENT
DTSTART;VALUE=DATE:20250802
DTEND;VALUE=DATE:20250810
DTSTAMP:20260419T125011
CREATED:20250103T172604Z
LAST-MODIFIED:20250103T172607Z
UID:8438-1754092800-1754783999@tatianacameron.com
SUMMARY:Croatia Wellness Cruise - Dalmatian Islands
DESCRIPTION:Gorgeous Croatian Coast\, Music\, Wellness\, Rest\nDiscover the beauty of Croatia\, rejuvenate your soul\, and embrace total well-being—body\, mind\, and spirit.\n\n\n\n\nMV PARADIS  August 2-9\, 2025 \nSplit – Hvar – Korčula – Dubrovnik – Mljet – Makarska – Brač – Split
URL:https://tatianacameron.com/event/croatia-wellness-cruise-dalmatian-islands/
END:VEVENT
BEGIN:VEVENT
DTSTART;VALUE=DATE:20250816
DTEND;VALUE=DATE:20250824
DTSTAMP:20260419T125011
CREATED:20250103T173214Z
LAST-MODIFIED:20250103T173217Z
UID:8443-1755302400-1755993599@tatianacameron.com
SUMMARY:Croatia Wellness Cruise – Northern Adriatic
DESCRIPTION:Gorgeous Croatian Coast\, Music\, Wellness\, Rest\nDiscover the beauty of Croatia\, rejuvenate your soul\, and embrace total well-being—body\, mind\, and spirit.\n\n\n\n\nMV OLMISSUM  August 16-23\, 2025 \nOpatija – Krk/Rab – Zadar – Molat – Losinj – Cres – Opatija \nOPTIONAL ADD-ON CURATED PACKAGE: \nFLY TO VENICE AND ADD A 5 DAY ITALY/ ISTRIA TRIP
URL:https://tatianacameron.com/event/croatia-wellness-cruise-northern-adriatic/
END:VEVENT
BEGIN:VEVENT
DTSTART;TZID=America/Chicago:20251008T190000
DTEND;TZID=America/Chicago:20251008T210000
DTSTAMP:20260419T125011
CREATED:20251006T191552Z
LAST-MODIFIED:20251006T191552Z
UID:8515-1759950000-1759957200@tatianacameron.com
SUMMARY:Croatian Music at the Nashville Musicians Association
DESCRIPTION:An evening of Croatian traditional and folk music\, as part of the World Series presented by AFM\, Local 257.
URL:https://tatianacameron.com/event/croatian-music-at-the-nashville-musicians-association/
LOCATION:Nashville Musicians Association\, 11 Music Cir N\, Nashville\, TN\, 37203\, United States
CATEGORIES:In Person Events
ATTACH;FMTTYPE=image/jpeg:https://tatianacameron.com/wp-content/uploads/2025/10/Tajci-sings.jpeg
END:VEVENT
BEGIN:VEVENT
DTSTART;VALUE=DATE:20251023
DTEND;VALUE=DATE:20251026
DTSTAMP:20260419T125011
CREATED:20251006T194754Z
LAST-MODIFIED:20251006T194754Z
UID:8525-1761177600-1761436799@tatianacameron.com
SUMMARY:ACAP 2025 - Chicago\, IL
DESCRIPTION:Friday: Keynote The Edge Within: From Pop Stardom to Purpose-Driven Impact \nSaturday: Special Performance at Gala Dinner
URL:https://tatianacameron.com/event/acap-2025-chicago-il/
LOCATION:Sheraton Grand Chicago Riverwalk\, Chicago\, Illinois\, 301 E North Water St\, Chicago\, IL\, 60611\, United States
CATEGORIES:In Person Events
END:VEVENT
BEGIN:VEVENT
DTSTART;TZID=America/Chicago:20251030T190000
DTEND;TZID=America/Chicago:20251030T220000
DTSTAMP:20260419T125011
CREATED:20251006T195704Z
LAST-MODIFIED:20251006T195704Z
UID:8527-1761850800-1761861600@tatianacameron.com
SUMMARY:Special Appearance with Nashville Women in Jazz
DESCRIPTION:Nashville Women in Jazz presents The Femme Fatales!  Over the last 3 years\, we have hosted a weekly residency at Urban Cowboy on Thursday nights. We celebrate with an annual showcase of talent where we pay homage to the strength\, beauty\, and complexity of femininity. \nOur house band showcases a wide range of musicians\, enchanting the evening with soulful tunes of love\, heartbreak\, and revenge. There will be vendors\, tarot readings\, and surprises throughout the night! \nThis event is free to attend\, but we ask for donations to our GoFundMe\, which you can contribute to at the link in our bio! Your contributions to the fundraiser will go toward releasing our upcoming album\, as well as directly supporting the musicians performing at the event. Drink specials will include some of our favorite cocktails from @urbancowboy_nashville\, with a percentage of bar sales donated to our cause! \nSo don your most captivating attire\, inspired by characters from cinema\, literature\, or music! Join us on October 30th\, 2025\, at Urban Cowboy from 7 – 10 pm and embrace the femme within\, no matter how you might identify.
URL:https://tatianacameron.com/event/special-appearance-with-nashville-women-in-jazz/
LOCATION:Urban Cowboy\, 1603 Woodland Street\, Nashville\, 37206\, United States
CATEGORIES:In Person Events
ATTACH;FMTTYPE=image/png:https://tatianacameron.com/wp-content/uploads/2025/10/Screenshot-2025-10-06-at-2.50.59 PM.png
END:VEVENT
BEGIN:VEVENT
DTSTART;TZID=Europe/Zagreb:20251203T210000
DTEND;TZID=Europe/Zagreb:20251203T230000
DTSTAMP:20260419T125011
CREATED:20251006T200544Z
LAST-MODIFIED:20251126T031341Z
UID:8532-1764795600-1764802800@tatianacameron.com
SUMMARY:Private Event: 90s Party
DESCRIPTION:
URL:https://tatianacameron.com/event/private-event-90s-party/
LOCATION:Zagreb\, Croatia
CATEGORIES:In Person Events
ATTACH;FMTTYPE=image/png:https://tatianacameron.com/wp-content/uploads/2025/10/Tajci-Private-Events-Graphic.png
END:VEVENT
BEGIN:VEVENT
DTSTART;TZID=Europe/Zagreb:20251205T200000
DTEND;TZID=Europe/Zagreb:20251205T220000
DTSTAMP:20260419T125011
CREATED:20251031T165451Z
LAST-MODIFIED:20251126T031238Z
UID:8560-1764964800-1764972000@tatianacameron.com
SUMMARY:Tajci Concert in Samobor
DESCRIPTION:ADVENT IN SAMOBOR:\nOpen-air concert with Tajci’s 90s hits in Samobor\, Croatia.
URL:https://tatianacameron.com/event/samobar-bozicni-koncert/
CATEGORIES:In Person Events
ATTACH;FMTTYPE=image/png:https://tatianacameron.com/wp-content/uploads/2025/10/Tajci-Concerts-Graphic.png
END:VEVENT
BEGIN:VEVENT
DTSTART;TZID=Europe/Zagreb:20251206T190000
DTEND;TZID=Europe/Zagreb:20251206T220000
DTSTAMP:20260419T125011
CREATED:20251031T170002Z
LAST-MODIFIED:20251126T031533Z
UID:8563-1765047600-1765058400@tatianacameron.com
SUMMARY:Tajci Concert in Zadar
DESCRIPTION:ADVENT IN ZADAR: Open-air concert with Tajci’s 90s hits in Zadar\, Croatia.
URL:https://tatianacameron.com/event/zadar-bozicni-koncert/
CATEGORIES:In Person Events
ATTACH;FMTTYPE=image/png:https://tatianacameron.com/wp-content/uploads/2025/10/Tajci-Concerts-Graphic.png
END:VEVENT
BEGIN:VEVENT
DTSTART;TZID=Europe/Zagreb:20251210T190000
DTEND;TZID=Europe/Zagreb:20251210T210000
DTSTAMP:20260419T125011
CREATED:20251006T201725Z
LAST-MODIFIED:20251126T033241Z
UID:8539-1765393200-1765400400@tatianacameron.com
SUMMARY:Bozicni Gala Koncert
DESCRIPTION:Tajci performs at the Christmas Gala Concert in Bjelovar\, Croatia.
URL:https://tatianacameron.com/event/bozicni-gala-koncert/
CATEGORIES:In Person Events
ATTACH;FMTTYPE=image/png:https://tatianacameron.com/wp-content/uploads/2025/10/Tajci-Guest-Appearances-Graphic.png
END:VEVENT
BEGIN:VEVENT
DTSTART;TZID=Europe/Zagreb:20251212T210000
DTEND;TZID=Europe/Zagreb:20251212T233000
DTSTAMP:20260419T125011
CREATED:20251006T201937Z
LAST-MODIFIED:20251126T033801Z
UID:8542-1765573200-1765582200@tatianacameron.com
SUMMARY:Private Event: 90s Party
DESCRIPTION:
URL:https://tatianacameron.com/event/private-event-90s-party-2/
LOCATION:Zagreb\, Croatia
CATEGORIES:In Person Events
ATTACH;FMTTYPE=image/png:https://tatianacameron.com/wp-content/uploads/2025/10/Tajci-Private-Events-Graphic.png
END:VEVENT
BEGIN:VEVENT
DTSTART;TZID=America/Chicago:20251213T190000
DTEND;TZID=America/Chicago:20251213T190000
DTSTAMP:20260419T125011
CREATED:20251126T032814Z
LAST-MODIFIED:20251126T033146Z
UID:8660-1765652400-1765652400@tatianacameron.com
SUMMARY:Tiha noc u Vukovaru
DESCRIPTION:Guest performance at the traditional Christmas concert “Tiha noc u Vukovaru.”\nWith the Tamburiza orchestra\nBroadcast by Croatian National Television (HRT)
URL:https://tatianacameron.com/event/tiha-noc-u-vukovaru/
LOCATION:Crkva sv. Filipa i Jakova\, Vukovar\, Croatia
CATEGORIES:In Person Events
ATTACH;FMTTYPE=image/png:https://tatianacameron.com/wp-content/uploads/2025/10/Tajci-Guest-Appearances-Graphic.png
END:VEVENT
BEGIN:VEVENT
DTSTART;TZID=Europe/Zagreb:20251217T180000
DTEND;TZID=Europe/Zagreb:20251217T200000
DTSTAMP:20260419T125011
CREATED:20251031T170358Z
LAST-MODIFIED:20251126T033656Z
UID:8565-1765994400-1766001600@tatianacameron.com
SUMMARY:Ana Rukavina Dobrotvorni Koncert
DESCRIPTION:
URL:https://tatianacameron.com/event/ana-rukavina-dobrotvorni-koncert/
CATEGORIES:In Person Events
ATTACH;FMTTYPE=image/png:https://tatianacameron.com/wp-content/uploads/2025/10/Tajci-Guest-Appearances-Graphic.png
END:VEVENT
BEGIN:VEVENT
DTSTART;TZID=Europe/Zagreb:20251220T120000
DTEND;TZID=Europe/Zagreb:20251220T130000
DTSTAMP:20260419T125011
CREATED:20251031T171046Z
LAST-MODIFIED:20251126T034000Z
UID:8569-1766232000-1766235600@tatianacameron.com
SUMMARY:Tajci Concert in Karlovac
DESCRIPTION:ADVENT IN KARLOVAC: Open-air concert with Tajci’s 90s hits in Karlovac\, Croatia.
URL:https://tatianacameron.com/event/karlovac/
CATEGORIES:In Person Events
ATTACH;FMTTYPE=image/png:https://tatianacameron.com/wp-content/uploads/2025/10/Tajci-Concerts-Graphic.png
END:VEVENT
BEGIN:VEVENT
DTSTART;TZID=Europe/Zagreb:20251221T180000
DTEND;TZID=Europe/Zagreb:20251221T210000
DTSTAMP:20260419T125011
CREATED:20251031T171242Z
LAST-MODIFIED:20251126T030558Z
UID:8571-1766340000-1766350800@tatianacameron.com
SUMMARY:Bozićni Koncert\, Nedelišće
DESCRIPTION:
URL:https://tatianacameron.com/event/boznici-koncert-in-nedelisce/
LOCATION:Sport Hub\, Nedelisce\, Croatia
CATEGORIES:In Person Events
ATTACH;FMTTYPE=image/png:https://tatianacameron.com/wp-content/uploads/2025/10/Tajci-Guest-Appearances-Graphic.png
END:VEVENT
END:VCALENDAR