BEGIN:VCALENDAR
VERSION:2.0
PRODID:-//Tatiana &#039;Tajci&#039; Cameron - ECPv6.15.20//NONSGML v1.0//EN
CALSCALE:GREGORIAN
METHOD:PUBLISH
X-WR-CALNAME:Tatiana &#039;Tajci&#039; Cameron
X-ORIGINAL-URL:https://tatianacameron.com
X-WR-CALDESC:Events for Tatiana &#039;Tajci&#039; Cameron
REFRESH-INTERVAL;VALUE=DURATION:PT1H
X-Robots-Tag:noindex
X-PUBLISHED-TTL:PT1H
BEGIN:VTIMEZONE
TZID:America/Denver
BEGIN:DAYLIGHT
TZOFFSETFROM:-0700
TZOFFSETTO:-0600
TZNAME:MDT
DTSTART:20200308T090000
END:DAYLIGHT
BEGIN:STANDARD
TZOFFSETFROM:-0600
TZOFFSETTO:-0700
TZNAME:MST
DTSTART:20201101T080000
END:STANDARD
BEGIN:DAYLIGHT
TZOFFSETFROM:-0700
TZOFFSETTO:-0600
TZNAME:MDT
DTSTART:20210314T090000
END:DAYLIGHT
BEGIN:STANDARD
TZOFFSETFROM:-0600
TZOFFSETTO:-0700
TZNAME:MST
DTSTART:20211107T080000
END:STANDARD
BEGIN:DAYLIGHT
TZOFFSETFROM:-0700
TZOFFSETTO:-0600
TZNAME:MDT
DTSTART:20220313T090000
END:DAYLIGHT
BEGIN:STANDARD
TZOFFSETFROM:-0600
TZOFFSETTO:-0700
TZNAME:MST
DTSTART:20221106T080000
END:STANDARD
END:VTIMEZONE
BEGIN:VEVENT
DTSTART;TZID=America/Denver:20210924T193000
DTEND;TZID=America/Denver:20210924T213000
DTSTAMP:20260420T103642
CREATED:20210816T201103Z
LAST-MODIFIED:20210818T002642Z
UID:6045-1632511800-1632519000@tatianacameron.com
SUMMARY:Waking Up In America - 2021 Tour - Anaconda\, MT
DESCRIPTION:WASHOE Theatre\,Anaconda\, Montana \n			\n				\n				\n				\n				\n				\n			\n				\n				\n				\n				\n				WAKING UP IN AMERICATHOSE WERE THE DAYSFeaturingTatiana ‘Tajci’ CameronSanya Matejas\,Brian Hanson on piano\,and David Langley on guitar \n			\n				\n				\n				\n				\n				Musical cabaret style show of the American Songbook with International Flair that will move you\, make you smile and remember how good it feels to sing along!
URL:https://tatianacameron.com/event/waking-up-in-america-mid-west-tour/
LOCATION:Washoe Theater\, 305 Main St\, Anaconda\, Montana\, 59711
CATEGORIES:WUIA Tour
END:VEVENT
END:VCALENDAR