BEGIN:VCALENDAR
VERSION:2.0
PRODID:-//Tatiana &#039;Tajci&#039; Cameron - ECPv6.15.20//NONSGML v1.0//EN
CALSCALE:GREGORIAN
METHOD:PUBLISH
X-ORIGINAL-URL:https://tatianacameron.com
X-WR-CALDESC:Events for Tatiana &#039;Tajci&#039; Cameron
REFRESH-INTERVAL;VALUE=DURATION:PT1H
X-Robots-Tag:noindex
X-PUBLISHED-TTL:PT1H
BEGIN:VTIMEZONE
TZID:America/Chicago
BEGIN:DAYLIGHT
TZOFFSETFROM:-0600
TZOFFSETTO:-0500
TZNAME:CDT
DTSTART:20210314T080000
END:DAYLIGHT
BEGIN:STANDARD
TZOFFSETFROM:-0500
TZOFFSETTO:-0600
TZNAME:CST
DTSTART:20211107T070000
END:STANDARD
BEGIN:DAYLIGHT
TZOFFSETFROM:-0600
TZOFFSETTO:-0500
TZNAME:CDT
DTSTART:20220313T080000
END:DAYLIGHT
BEGIN:STANDARD
TZOFFSETFROM:-0500
TZOFFSETTO:-0600
TZNAME:CST
DTSTART:20221106T070000
END:STANDARD
BEGIN:DAYLIGHT
TZOFFSETFROM:-0600
TZOFFSETTO:-0500
TZNAME:CDT
DTSTART:20230312T080000
END:DAYLIGHT
BEGIN:STANDARD
TZOFFSETFROM:-0500
TZOFFSETTO:-0600
TZNAME:CST
DTSTART:20231105T070000
END:STANDARD
BEGIN:DAYLIGHT
TZOFFSETFROM:-0600
TZOFFSETTO:-0500
TZNAME:CDT
DTSTART:20240310T080000
END:DAYLIGHT
BEGIN:STANDARD
TZOFFSETFROM:-0500
TZOFFSETTO:-0600
TZNAME:CST
DTSTART:20241103T070000
END:STANDARD
END:VTIMEZONE
BEGIN:VTIMEZONE
TZID:America/New_York
BEGIN:DAYLIGHT
TZOFFSETFROM:-0500
TZOFFSETTO:-0400
TZNAME:EDT
DTSTART:20220313T070000
END:DAYLIGHT
BEGIN:STANDARD
TZOFFSETFROM:-0400
TZOFFSETTO:-0500
TZNAME:EST
DTSTART:20221106T060000
END:STANDARD
BEGIN:DAYLIGHT
TZOFFSETFROM:-0500
TZOFFSETTO:-0400
TZNAME:EDT
DTSTART:20230312T070000
END:DAYLIGHT
BEGIN:STANDARD
TZOFFSETFROM:-0400
TZOFFSETTO:-0500
TZNAME:EST
DTSTART:20231105T060000
END:STANDARD
BEGIN:DAYLIGHT
TZOFFSETFROM:-0500
TZOFFSETTO:-0400
TZNAME:EDT
DTSTART:20240310T070000
END:DAYLIGHT
BEGIN:STANDARD
TZOFFSETFROM:-0400
TZOFFSETTO:-0500
TZNAME:EST
DTSTART:20241103T060000
END:STANDARD
END:VTIMEZONE
BEGIN:VEVENT
DTSTART;TZID=America/Chicago:20230330T190000
DTEND;TZID=America/Chicago:20230330T203000
DTSTAMP:20260420T121604
CREATED:20230112T180544Z
LAST-MODIFIED:20230112T180544Z
UID:8039-1680202800-1680208200@tatianacameron.com
SUMMARY:I Thirst - Concert
DESCRIPTION:
URL:https://tatianacameron.com/event/i-thirst-concert-3/
LOCATION:St. Olaf\, Minneapolis\, MN
CATEGORIES:In Person Events
END:VEVENT
BEGIN:VEVENT
DTSTART;VALUE=DATE:20230305
DTEND;VALUE=DATE:20230306
DTSTAMP:20260420T121604
CREATED:20230112T180413Z
LAST-MODIFIED:20230112T180413Z
UID:8037-1677974400-1678060799@tatianacameron.com
SUMMARY:I Thirst - Concert
DESCRIPTION:
URL:https://tatianacameron.com/event/i-thirst-concert-2/
LOCATION:The Church of the Nativity\, 2793 Buckner Ln\, Thompson's Station\,\, TN\, 37179\, United States
CATEGORIES:In Person Events
END:VEVENT
BEGIN:VEVENT
DTSTART;TZID=America/New_York:20230225T173000
DTEND;TZID=America/New_York:20230225T203000
DTSTAMP:20260420T121604
CREATED:20230112T175843Z
LAST-MODIFIED:20230112T175843Z
UID:8035-1677346200-1677357000@tatianacameron.com
SUMMARY:Private Event - Cincinnati\, OH
DESCRIPTION:
URL:https://tatianacameron.com/event/private-event-cincinnati-oh/
CATEGORIES:In Person Events
END:VEVENT
BEGIN:VEVENT
DTSTART;TZID=America/Chicago:20221217T190000
DTEND;TZID=America/Chicago:20221217T203000
DTSTAMP:20260420T121604
CREATED:20221128T174943Z
LAST-MODIFIED:20221128T174943Z
UID:8007-1671303600-1671309000@tatianacameron.com
SUMMARY:David and Tajci's Christmas Concert
DESCRIPTION:Ice Castle\, Berkley Springs\, WV
URL:https://tatianacameron.com/event/david-and-tajcis-christmas-concert/
LOCATION:The Ice House\, Berkley Springs\, WV\, 138 Independence Street\, Berkley Springs\, WV\, United States
CATEGORIES:In Person Events
END:VEVENT
END:VCALENDAR