BEGIN:VCALENDAR
VERSION:2.0
PRODID:-//Tatiana &#039;Tajci&#039; Cameron - ECPv6.15.20//NONSGML v1.0//EN
CALSCALE:GREGORIAN
METHOD:PUBLISH
X-WR-CALNAME:Tatiana &#039;Tajci&#039; Cameron
X-ORIGINAL-URL:https://tatianacameron.com
X-WR-CALDESC:Events for Tatiana &#039;Tajci&#039; Cameron
REFRESH-INTERVAL;VALUE=DURATION:PT1H
X-Robots-Tag:noindex
X-PUBLISHED-TTL:PT1H
BEGIN:VTIMEZONE
TZID:America/Chicago
BEGIN:DAYLIGHT
TZOFFSETFROM:-0600
TZOFFSETTO:-0500
TZNAME:CDT
DTSTART:20240310T080000
END:DAYLIGHT
BEGIN:STANDARD
TZOFFSETFROM:-0500
TZOFFSETTO:-0600
TZNAME:CST
DTSTART:20241103T070000
END:STANDARD
BEGIN:DAYLIGHT
TZOFFSETFROM:-0600
TZOFFSETTO:-0500
TZNAME:CDT
DTSTART:20250309T080000
END:DAYLIGHT
BEGIN:STANDARD
TZOFFSETFROM:-0500
TZOFFSETTO:-0600
TZNAME:CST
DTSTART:20251102T070000
END:STANDARD
BEGIN:DAYLIGHT
TZOFFSETFROM:-0600
TZOFFSETTO:-0500
TZNAME:CDT
DTSTART:20260308T080000
END:DAYLIGHT
BEGIN:STANDARD
TZOFFSETFROM:-0500
TZOFFSETTO:-0600
TZNAME:CST
DTSTART:20261101T070000
END:STANDARD
END:VTIMEZONE
BEGIN:VEVENT
DTSTART;TZID=America/Chicago:20251030T190000
DTEND;TZID=America/Chicago:20251030T220000
DTSTAMP:20260421T075404
CREATED:20251006T195704Z
LAST-MODIFIED:20251006T195704Z
UID:8527-1761850800-1761861600@tatianacameron.com
SUMMARY:Special Appearance with Nashville Women in Jazz
DESCRIPTION:Nashville Women in Jazz presents The Femme Fatales!  Over the last 3 years\, we have hosted a weekly residency at Urban Cowboy on Thursday nights. We celebrate with an annual showcase of talent where we pay homage to the strength\, beauty\, and complexity of femininity. \nOur house band showcases a wide range of musicians\, enchanting the evening with soulful tunes of love\, heartbreak\, and revenge. There will be vendors\, tarot readings\, and surprises throughout the night! \nThis event is free to attend\, but we ask for donations to our GoFundMe\, which you can contribute to at the link in our bio! Your contributions to the fundraiser will go toward releasing our upcoming album\, as well as directly supporting the musicians performing at the event. Drink specials will include some of our favorite cocktails from @urbancowboy_nashville\, with a percentage of bar sales donated to our cause! \nSo don your most captivating attire\, inspired by characters from cinema\, literature\, or music! Join us on October 30th\, 2025\, at Urban Cowboy from 7 – 10 pm and embrace the femme within\, no matter how you might identify.
URL:https://tatianacameron.com/event/special-appearance-with-nashville-women-in-jazz/
LOCATION:Urban Cowboy\, 1603 Woodland Street\, Nashville\, 37206\, United States
CATEGORIES:In Person Events
ATTACH;FMTTYPE=image/png:https://tatianacameron.com/wp-content/uploads/2025/10/Screenshot-2025-10-06-at-2.50.59 PM.png
END:VEVENT
END:VCALENDAR