BEGIN:VCALENDAR
VERSION:2.0
PRODID:-//Tatiana &#039;Tajci&#039; Cameron - ECPv6.15.20//NONSGML v1.0//EN
CALSCALE:GREGORIAN
METHOD:PUBLISH
X-WR-CALNAME:Tatiana &#039;Tajci&#039; Cameron
X-ORIGINAL-URL:https://tatianacameron.com
X-WR-CALDESC:Events for Tatiana &#039;Tajci&#039; Cameron
REFRESH-INTERVAL;VALUE=DURATION:PT1H
X-Robots-Tag:noindex
X-PUBLISHED-TTL:PT1H
BEGIN:VTIMEZONE
TZID:America/Chicago
BEGIN:DAYLIGHT
TZOFFSETFROM:-0600
TZOFFSETTO:-0500
TZNAME:CDT
DTSTART:20240310T080000
END:DAYLIGHT
BEGIN:STANDARD
TZOFFSETFROM:-0500
TZOFFSETTO:-0600
TZNAME:CST
DTSTART:20241103T070000
END:STANDARD
BEGIN:DAYLIGHT
TZOFFSETFROM:-0600
TZOFFSETTO:-0500
TZNAME:CDT
DTSTART:20250309T080000
END:DAYLIGHT
BEGIN:STANDARD
TZOFFSETFROM:-0500
TZOFFSETTO:-0600
TZNAME:CST
DTSTART:20251102T070000
END:STANDARD
BEGIN:DAYLIGHT
TZOFFSETFROM:-0600
TZOFFSETTO:-0500
TZNAME:CDT
DTSTART:20260308T080000
END:DAYLIGHT
BEGIN:STANDARD
TZOFFSETFROM:-0500
TZOFFSETTO:-0600
TZNAME:CST
DTSTART:20261101T070000
END:STANDARD
END:VTIMEZONE
BEGIN:VEVENT
DTSTART;TZID=America/Chicago:20250408T190000
DTEND;TZID=America/Chicago:20250408T210000
DTSTAMP:20260421T001921
CREATED:20241112T230456Z
LAST-MODIFIED:20250124T153236Z
UID:8388-1744138800-1744146000@tatianacameron.com
SUMMARY:Window in a Wall - Borger\, TX
DESCRIPTION:BORGER HIGH SCHOOL\n“Window in a Wall”by Tajci Cameron & Sanya Mateyas\n4-Piece Multi-National Song and Dance Show \n– Tajci: European Teen Pop Sensation with Platinum Record Sales \n– Sanya: Lead Vocalist for Trans-Siberian Orchestra Tour \nBringing the world together through the universal language of music\, sisters Tajci Cameron and Sanya Mateyas present their new show “Window in a Wall” – a unique blend of light Jazz\, show tunes\, classic pop standards\, European ethnic\, and gypsy-influenced music. Echoing the song “Window in the Wall\,” which was co-written by Tajci and recorded by Olivia Newton John\, the show features music that is beloved around the world\, with costumes and dance that highlight the sibling’s Croatian heritage. \nIf you take a walk down a cobble-stoned street of a Croatian village on a Sunday afternoon in late spring\, you will hear the music playing in homes. Through one window\, there will be a Croatian song\, another a jazz tune\, an American country or pop song\, a French chanson\, an Italian canzona\, or a Gypsy jam. The world will come together around you\, reminding you that\, when we pause and listen\, we are all connected and can learn so much about each other. The music is here to bring us together\, soften our hearts\, and listen\, come together\, dance\, sing in harmony\, laugh\, and love. As the Window in the Wall song says: Looking through a window in the wall\, maybe we can see the other side. Find we’re not so different after all\, looking for a window in the wall. \n 
URL:https://tatianacameron.com/event/window-in-a-wall-borger-tx/
LOCATION:Borger Sr. High School\, 100 West 1st Street\, Borger\, TX\, 79007\, United States
END:VEVENT
END:VCALENDAR