BEGIN:VCALENDAR
VERSION:2.0
PRODID:-//Tatiana &#039;Tajci&#039; Cameron - ECPv6.15.20//NONSGML v1.0//EN
CALSCALE:GREGORIAN
METHOD:PUBLISH
X-ORIGINAL-URL:https://tatianacameron.com
X-WR-CALDESC:Events for Tatiana &#039;Tajci&#039; Cameron
REFRESH-INTERVAL;VALUE=DURATION:PT1H
X-Robots-Tag:noindex
X-PUBLISHED-TTL:PT1H
BEGIN:VTIMEZONE
TZID:America/Chicago
BEGIN:DAYLIGHT
TZOFFSETFROM:-0600
TZOFFSETTO:-0500
TZNAME:CDT
DTSTART:20210314T080000
END:DAYLIGHT
BEGIN:STANDARD
TZOFFSETFROM:-0500
TZOFFSETTO:-0600
TZNAME:CST
DTSTART:20211107T070000
END:STANDARD
BEGIN:DAYLIGHT
TZOFFSETFROM:-0600
TZOFFSETTO:-0500
TZNAME:CDT
DTSTART:20220313T080000
END:DAYLIGHT
BEGIN:STANDARD
TZOFFSETFROM:-0500
TZOFFSETTO:-0600
TZNAME:CST
DTSTART:20221106T070000
END:STANDARD
BEGIN:DAYLIGHT
TZOFFSETFROM:-0600
TZOFFSETTO:-0500
TZNAME:CDT
DTSTART:20230312T080000
END:DAYLIGHT
BEGIN:STANDARD
TZOFFSETFROM:-0500
TZOFFSETTO:-0600
TZNAME:CST
DTSTART:20231105T070000
END:STANDARD
END:VTIMEZONE
BEGIN:VEVENT
DTSTART;TZID=America/Chicago:20221220T190000
DTEND;TZID=America/Chicago:20221220T203000
DTSTAMP:20260420T125311
CREATED:20221128T172223Z
LAST-MODIFIED:20221128T172223Z
UID:8002-1671562800-1671568200@tatianacameron.com
SUMMARY:December Live Stream
DESCRIPTION:Tajci\, David\, Josh\, and Frank play the Christmas classics.
URL:https://tatianacameron.com/event/december-live-stream/
LOCATION:Tajci’s Music Room\, Franklin\, TN\, 37069\, United States
CATEGORIES:Live Stream
END:VEVENT
END:VCALENDAR