BEGIN:VCALENDAR
VERSION:2.0
PRODID:-//Tatiana &#039;Tajci&#039; Cameron - ECPv6.15.20//NONSGML v1.0//EN
CALSCALE:GREGORIAN
METHOD:PUBLISH
X-ORIGINAL-URL:https://tatianacameron.com
X-WR-CALDESC:Events for Tatiana &#039;Tajci&#039; Cameron
REFRESH-INTERVAL;VALUE=DURATION:PT1H
X-Robots-Tag:noindex
X-PUBLISHED-TTL:PT1H
BEGIN:VTIMEZONE
TZID:America/Chicago
BEGIN:DAYLIGHT
TZOFFSETFROM:-0600
TZOFFSETTO:-0500
TZNAME:CDT
DTSTART:20210314T080000
END:DAYLIGHT
BEGIN:STANDARD
TZOFFSETFROM:-0500
TZOFFSETTO:-0600
TZNAME:CST
DTSTART:20211107T070000
END:STANDARD
BEGIN:DAYLIGHT
TZOFFSETFROM:-0600
TZOFFSETTO:-0500
TZNAME:CDT
DTSTART:20220313T080000
END:DAYLIGHT
BEGIN:STANDARD
TZOFFSETFROM:-0500
TZOFFSETTO:-0600
TZNAME:CST
DTSTART:20221106T070000
END:STANDARD
BEGIN:DAYLIGHT
TZOFFSETFROM:-0600
TZOFFSETTO:-0500
TZNAME:CDT
DTSTART:20230312T080000
END:DAYLIGHT
BEGIN:STANDARD
TZOFFSETFROM:-0500
TZOFFSETTO:-0600
TZNAME:CST
DTSTART:20231105T070000
END:STANDARD
END:VTIMEZONE
BEGIN:VEVENT
DTSTART;TZID=America/Chicago:20221209T190000
DTEND;TZID=America/Chicago:20221210T190000
DTSTAMP:20260420T125331
CREATED:20221105T195946Z
LAST-MODIFIED:20221105T200914Z
UID:7942-1670612400-1670698800@tatianacameron.com
SUMMARY:EMMANUEL Concert\, Wisconsin (2 Shows)
DESCRIPTION:Emmanuel Advent ConcertSt. Monica’s Catholic ChurchWhitefish Bay\, WI \n— Two Shows —Friday\, December 9\, 7PM – 9PMSaturday\, December 10\, 7PM – 9PM
URL:https://tatianacameron.com/event/emmanuel-concert-whitefish-bay-wi-two-shows/
LOCATION:St. Monica Catholic Church\, 5681 N. Santa Monica\, Whitefish Bay\, WI\, 53217\, United States
END:VEVENT
END:VCALENDAR