BEGIN:VCALENDAR
VERSION:2.0
PRODID:-//Tatiana &#039;Tajci&#039; Cameron - ECPv6.15.20//NONSGML v1.0//EN
CALSCALE:GREGORIAN
METHOD:PUBLISH
X-WR-CALNAME:Tatiana &#039;Tajci&#039; Cameron
X-ORIGINAL-URL:https://tatianacameron.com
X-WR-CALDESC:Events for Tatiana &#039;Tajci&#039; Cameron
REFRESH-INTERVAL;VALUE=DURATION:PT1H
X-Robots-Tag:noindex
X-PUBLISHED-TTL:PT1H
BEGIN:VTIMEZONE
TZID:America/Chicago
BEGIN:DAYLIGHT
TZOFFSETFROM:-0600
TZOFFSETTO:-0500
TZNAME:CDT
DTSTART:20210314T080000
END:DAYLIGHT
BEGIN:STANDARD
TZOFFSETFROM:-0500
TZOFFSETTO:-0600
TZNAME:CST
DTSTART:20211107T070000
END:STANDARD
BEGIN:DAYLIGHT
TZOFFSETFROM:-0600
TZOFFSETTO:-0500
TZNAME:CDT
DTSTART:20220313T080000
END:DAYLIGHT
BEGIN:STANDARD
TZOFFSETFROM:-0500
TZOFFSETTO:-0600
TZNAME:CST
DTSTART:20221106T070000
END:STANDARD
BEGIN:DAYLIGHT
TZOFFSETFROM:-0600
TZOFFSETTO:-0500
TZNAME:CDT
DTSTART:20230312T080000
END:DAYLIGHT
BEGIN:STANDARD
TZOFFSETFROM:-0500
TZOFFSETTO:-0600
TZNAME:CST
DTSTART:20231105T070000
END:STANDARD
END:VTIMEZONE
BEGIN:VEVENT
DTSTART;TZID=America/Chicago:20221116T190000
DTEND;TZID=America/Chicago:20221116T200000
DTSTAMP:20260420T163517
CREATED:20221105T193203Z
LAST-MODIFIED:20221115T193842Z
UID:7935-1668625200-1668628800@tatianacameron.com
SUMMARY:Peace & Calm for the Holidays
DESCRIPTION:PEACE & CALM FOR THE HOLIDAYS \nFREE Zoom Gathering \n Wednesday\, November 16\, 2022 at 7 PM CDT \n			\n				\n				\n				\n				\n				\n\nREADY\, SET\, HOLIDAYS! \n\n\n\n\nWould you like to experience a magical\, blissful\, and abundant holiday season with minimal stress?I have a gift for you! \nI’ll share my best tools and practices and give you some helpful coaching tips + a special digital gift \n\n\n			\n				Click here to register. It's FREE
URL:https://tatianacameron.com/event/peace-calm-for-the-holidays/
END:VEVENT
END:VCALENDAR