BEGIN:VCALENDAR
VERSION:2.0
PRODID:-//Tatiana &#039;Tajci&#039; Cameron - ECPv6.15.20//NONSGML v1.0//EN
CALSCALE:GREGORIAN
METHOD:PUBLISH
X-ORIGINAL-URL:https://tatianacameron.com
X-WR-CALDESC:Events for Tatiana &#039;Tajci&#039; Cameron
REFRESH-INTERVAL;VALUE=DURATION:PT1H
X-Robots-Tag:noindex
X-PUBLISHED-TTL:PT1H
BEGIN:VTIMEZONE
TZID:America/New_York
BEGIN:DAYLIGHT
TZOFFSETFROM:-0500
TZOFFSETTO:-0400
TZNAME:EDT
DTSTART:20210314T070000
END:DAYLIGHT
BEGIN:STANDARD
TZOFFSETFROM:-0400
TZOFFSETTO:-0500
TZNAME:EST
DTSTART:20211107T060000
END:STANDARD
BEGIN:DAYLIGHT
TZOFFSETFROM:-0500
TZOFFSETTO:-0400
TZNAME:EDT
DTSTART:20220313T070000
END:DAYLIGHT
BEGIN:STANDARD
TZOFFSETFROM:-0400
TZOFFSETTO:-0500
TZNAME:EST
DTSTART:20221106T060000
END:STANDARD
BEGIN:DAYLIGHT
TZOFFSETFROM:-0500
TZOFFSETTO:-0400
TZNAME:EDT
DTSTART:20230312T070000
END:DAYLIGHT
BEGIN:STANDARD
TZOFFSETFROM:-0400
TZOFFSETTO:-0500
TZNAME:EST
DTSTART:20231105T060000
END:STANDARD
END:VTIMEZONE
BEGIN:VEVENT
DTSTART;TZID=America/New_York:20220924T090000
DTEND;TZID=America/New_York:20220924T130000
DTSTAMP:20260420T200224
CREATED:20220828T002521Z
LAST-MODIFIED:20220917T154301Z
UID:7820-1664010000-1664024400@tatianacameron.com
SUMMARY:Cincinnati\, OH Mini-Retreat
DESCRIPTION:Blessed Be the Peacemakers – Retreat on using sacred music to make peace and create unity.Facilitated by ValLimar Jansen\, featuring Tajci. \nRegister at www.npmcincinnati.org/peacemakers-retreat.html
URL:https://tatianacameron.com/event/cincinnati-oh/
LOCATION:Xavier University\, Bellarmine Chapel\, 3832 Ledgewood Dr.\, Cincinnati\, OH\, 45207\, United States
END:VEVENT
BEGIN:VEVENT
DTSTART;TZID=America/New_York:20220924T190000
DTEND;TZID=America/New_York:20220924T210000
DTSTAMP:20260420T200224
CREATED:20220916T202347Z
LAST-MODIFIED:20220917T154034Z
UID:7895-1664046000-1664053200@tatianacameron.com
SUMMARY:Dayton OH - Tajci In Concert
DESCRIPTION:Come an hour early for a relaxing walk through the beautiful retreat grounds and stay for an evening of reflection\, songs of hope\, and comfort.  \nSPONSORED BY QUEEN OF APOSTLES COMMUNITY PARISH
URL:https://tatianacameron.com/event/dayton-oh-tajci-in-concert/
LOCATION:Bergamo Center\, 4400 Shakertown Rd\, Beavercreek\, OH\, 45430\, United States
END:VEVENT
END:VCALENDAR